BEGIN:VCALENDAR
PRODID:NingEventWidget-v1
VERSION:2.0
METHOD:PUBLISH
BEGIN:VEVENT
UID:1791588:Event:183709
DTSTAMP:20260422T034814Z
SUMMARY:Improving Your CT Safety Skills: CT Dose Indicators (Live Webi
 nar)
DESCRIPTION:Course Topics\nProtective Devices\n\nMisconceptions About 
 Protective Devices\nAre Aprons Really Just Patient Placebo’s\nPediat
 ric Considerations\n\n\nFor more information visit https://community.r
 adrounds.com/events/improving-your-ct-safety-skills-ct-dose-indicators
 -live-webinar-1
DTSTART:20180914T130000Z
DTEND:20180914T140000Z
CATEGORIES:live, webinar
LOCATION:Advanced Health Education Center
WEBSITE:https://store.aheconline.com/
URL:https://store.aheconline.com/
CONTACT:800-239-1361
ORGANIZER;CN="Larry Carney":https://community.radrounds.com/profile/La
 rryCarney
ATTACH;FMTTYPE="image/jpeg":
ATTENDEE;ROLE=REQ-PARTICIPANT;PARTSTAT=ACCEPTED;RSVP=TRUE;CN="Larry Ca
 rney":https://community.radrounds.com/profile/LarryCarney
END:VEVENT
END:VCALENDAR
