BEGIN:VCALENDAR
PRODID:NingEventWidget-v1
VERSION:2.0
METHOD:PUBLISH
BEGIN:VEVENT
UID:1791588:Event:115267
DTSTAMP:20260425T082802Z
SUMMARY:Imaging Trends in Diagnostic
DESCRIPTION:Imaging Trends in Diagnostic Saturday, January 21, 2012 - 
 Saturday, January 21, 2012Advanced Health Education Center Houston, Te
 xas (TX), United StatesProvided by Advanced Health Education Center  C
 ME Provider: Advanced Health Education Center 8502 Tybor DriveHouston,
  Texas (TX) 77074United States\nToll Free: (800) 239-1361Phone: (713) 
 772-0157Fax: (713) 772-0155\n\nConference Center:Advanced Health Educa
 tion Center 8502 Tybor DriveHouston, Texas (TX) 77074United States\nPh
 one: (800) 239-1361\n Description:Here is our annual AHEC miniconferen
 ce for your CE needs in 2012. We are currently planning out the agenda
  and inviting speakers to make up a variety of topics just for you! Sa
 ve the date and check back with us for topics and speaker information.
  See you at AHEC for our annual spring diagnostic fling!\nSelf Assessm
 ent Module (SAM): No\nInstructors:Please visit the Advanced Health Edu
 cation Center website for more information.\nSpecialty Audience:Radiol
 ogy\n\nFor more information visit https://community.radrounds.com/even
 ts/imaging-trends-in-diagnostic
DTSTART:20120121T050000Z
DTEND:20120122T045900Z
CATEGORIES:radiology
LOCATION:Advanced Health Education Center
WEBSITE:http://aheconline.com/
URL:http://aheconline.com/
CONTACT:(800) 239-1361
ORGANIZER:Advanced Health Education Center
ATTACH;FMTTYPE="image/jpeg":
ATTENDEE;ROLE=REQ-PARTICIPANT;PARTSTAT=ACCEPTED;RSVP=TRUE;CN="radRound
 s Radiology Events":https://community.radrounds.com/profile/radRoundsR
 adiologyEvents
END:VEVENT
END:VCALENDAR
