BEGIN:VCALENDAR
PRODID:NingEventWidget-v1
VERSION:2.0
METHOD:PUBLISH
BEGIN:VEVENT
UID:1791588:Event:183735
DTSTAMP:20260420T030225Z
SUMMARY:Imaging Responsibilities in the ED (Live Webinar)
DESCRIPTION:Course Objectives:\nAt the conclusion of the course the pa
 rticipant should be able to:\n1.      Discuss the professional re
 sponsibility of Emergency Practitioners\n2.      List the states 
 with regulations in place for imaging procedures\n3.      List th
 e reasons patients may have unnecessary imaging examinations in the ED
 \n4.      Discuss radiation risks with medical imaging procedures
 \n5.      Describe the different trauma levels of hospitals\n6. 
      Describe the interaction of the patient with quality and affo
 rdability of services\n7.      Discuss the technical challenges o
 f performing imaging examinations\n8.      List the appropriatene
 ss criteria\n9.      Discuss clinical decision support tools\n10.
   Discuss the Image Gently and Image Wisely campaigns\n11.  Describe
  new methods of ordering examinations\n12.  Discuss the need for asse
 ssing benefits and risks of medical imaging\n13.  Discuss real-world 
 practice for ordering CT exams\n14.  Discuss the importance of creden
 tialing in medical imaging\n\nFor more information visit https://commu
 nity.radrounds.com/events/imaging-responsibilities-in-the-ed-live-webi
 nar-2
DTSTART:20180927T220000Z
DTEND:20180928T010000Z
CATEGORIES:live, webinar
LOCATION:Advanced Health Education Center
WEBSITE:https://store.aheconline.com/
URL:https://store.aheconline.com/
CONTACT:800-239-1361
ORGANIZER;CN="Larry Carney":https://community.radrounds.com/profile/La
 rryCarney
ATTACH;FMTTYPE="image/jpeg":
ATTENDEE;ROLE=REQ-PARTICIPANT;PARTSTAT=ACCEPTED;RSVP=TRUE;CN="Larry Ca
 rney":https://community.radrounds.com/profile/LarryCarney
END:VEVENT
END:VCALENDAR
