BEGIN:VCALENDAR
PRODID:NingEventWidget-v1
VERSION:2.0
METHOD:PUBLISH
BEGIN:VEVENT
UID:1791588:Event:116602
DTSTAMP:20260422T094513Z
SUMMARY:Imaging is the Answer
DESCRIPTION:Imaging is the Answer Saturday, May 05, 2012 - Saturday, M
 ay 05, 2012The Science Spectrum Lubbock, Texas (TX), United StatesProv
 ided by Advanced Health Education Center  CME Provider: Advanced Healt
 h Education Center 8502 Tybor DriveHouston, Texas (TX) 77074United Sta
 tes\nToll Free: (800) 239-1361Phone: (713) 772-0157Fax: (713) 772-0155
 \n\nConference Center:The Science Spectrum 2579 S Loop 289Lubbock, Tex
 as (TX) 79423United States\nPhone: 806-745-2525\n Description:So many 
 advancements in the history of imaging with explosions in new technolo
 gy and the era of electronic imaging. This course provides a day of mo
 dalities used in today's imaging environment. Chest imaging-which moda
 lity and why? What about Tomography, CT, MRI? You will enjoy visiting 
 the different modalities and learn the different acquisitions and why 
 and how they are used for imaging purposes. Which imaging modality is 
 best for imaging pathologies, trauma and even forensic science? The co
 urse provides the necessary understanding of CR and DR technology and 
 exposure techniques as well.\nYou will return to work with valuable in
 formation to put in use to make your images no matter what modality th
 e best they can be!\nCourse Topics â€¢ Mastering CR and DRâ€¢ Chest Im
 ages-Which Modality and Why?â€¢ Tomography-Linear, CT, Tomosynthesisâ€
 ¢ Trauma Imaging Techniquesâ€¢ Imaging Techniques in Forensic Science\
 nSelf Assessment Module (SAM): No\nInstructors:Mark Struthers BSRT,RT(
 R)(MR),CMRT,CIIP\nSpecialty Audience:Radiology\n\nFor more information
  visit https://community.radrounds.com/events/imaging-is-the-answer
DTSTART:20120505T040000Z
DTEND:20120506T035900Z
CATEGORIES:radiology
LOCATION:The Science Spectrum
WEBSITE:http://www.sciencespectrum.org/new/home.shtml
URL:http://www.sciencespectrum.org/new/home.shtml
CONTACT:806-745-2525
ORGANIZER:Advanced Health Education Center
ATTACH;FMTTYPE="image/jpeg":
ATTENDEE;ROLE=REQ-PARTICIPANT;PARTSTAT=ACCEPTED;RSVP=TRUE;CN="radRound
 s Radiology Events":https://community.radrounds.com/profile/radRoundsR
 adiologyEvents
END:VEVENT
END:VCALENDAR
