BEGIN:VCALENDAR
PRODID:NingEventWidget-v1
VERSION:2.0
METHOD:PUBLISH
BEGIN:VEVENT
UID:1791588:Event:123237
DTSTAMP:20260420T015400Z
SUMMARY:Imaging is the Answer
DESCRIPTION:So many advancements in the history of imaging with explos
 ions in new technology and the era of electronic imaging.  This cours
 e provides a day of modalities used in today's imaging environment.  
 Chest imaging - which modality and why?  What about Tomography, CT, a
 nd MRI?  You will enjoy visiting the different modalities and learn t
 he different acquisitions and why and how they are used for imaging pu
 rposes.  Which imaging modality is best for imaging pathologies, trau
 ma and even forensic science?  The course provides the necessary unde
 rstanding of CR and DR technology and exposure techniques as well. You
  will return to work with valuable information to put in use to make y
 our images the best they can be, no matter what modality!\n\nFor more 
 information visit https://community.radrounds.com/events/imaging-is-th
 e-answer-2
DTSTART:20120622T120000Z
DTEND:20120622T201500Z
CATEGORIES:ce, course
LOCATION:Courtyard St. Louis/Westport Plaza
WEBSITE:http://store.aheconline.com/DisplayDetail.aspx?pid=7210
URL:http://store.aheconline.com/DisplayDetail.aspx?pid=7210
CONTACT:800-239-1361
ORGANIZER:Advanced Health Education Center
ATTACH;FMTTYPE="image/jpeg":
ATTENDEE;ROLE=REQ-PARTICIPANT;PARTSTAT=ACCEPTED;RSVP=TRUE;CN="Larry Ca
 rney":https://community.radrounds.com/profile/LarryCarney
END:VEVENT
END:VCALENDAR
