BEGIN:VCALENDAR
PRODID:NingEventWidget-v1
VERSION:2.0
METHOD:PUBLISH
BEGIN:VEVENT
UID:1791588:Event:183521
DTSTAMP:20260421T132720Z
SUMMARY:Imaging in Prague 2019
DESCRIPTION:Join the luminaries in Radiology: ACR's 2018 Gold Medalist
  Donald Resnick, MSK MRI expert Phillip Tirman, acclaimed neuroradiolo
 gist Blake Johnson, and world renowned body imager Neil Rofsky for cut
 ting edge lectures at the Prague Marriott. This year Nicole Hindman fr
 om NYU will be joining us for several lectures on Body Imaging. Neuror
 adiologist and past president of the ECR Paul Parizel​ will be joini
 ng us from Belgium.Take advantage of this unique opportunity to meet r
 adiologists from all corners of the globe in an intriguing location, a
 nd learn from some of the best specialists in their field. Join the Gl
 obal Rads in the magical city of Prague, Czech Republic in June, 2019!
 \n\nFor more information visit https://community.radrounds.com/events/
 imaging-in-prague-2019
DTSTART:20190609T120000Z
DTEND:20190612T210000Z
CATEGORIES:radiology, conference
LOCATION:Prague Marriott Hotel
WEBSITE:https://www.marriott.com/hotels/travel/prgdt-prague-marriott-h
 otel/
URL:https://www.marriott.com/hotels/travel/prgdt-prague-marriott-hotel
 /
CONTACT:3144723263
ORGANIZER:Global Radiology CME
ATTACH;FMTTYPE="image/jpeg":http://storage.ning.com/topology/rest/1.0/
 file/get/1044774585?profile=original
ATTENDEE;ROLE=REQ-PARTICIPANT;PARTSTAT=ACCEPTED;RSVP=TRUE;CN="Kevin Ri
 ce":https://community.radrounds.com/profile/KevinRice
END:VEVENT
END:VCALENDAR
