BEGIN:VCALENDAR
PRODID:NingEventWidget-v1
VERSION:2.0
METHOD:PUBLISH
BEGIN:VEVENT
UID:1791588:Event:116059
DTSTAMP:20260421T060334Z
SUMMARY:Imaging in Hawaii
DESCRIPTION:Imaging in Hawaii Tuesday, March 27, 2012 - Friday, March 
 30, 2012Grand Hyatt Kauai Resort and Spa Koloa, Hawaii (HI), United St
 atesProvided by CME Science  CME Provider: CME Science 3790 El Camino 
 Real Suite 2029Palo Alto, California (CA) 94306United States\nToll Fre
 e: (800) 383-7116Phone: (213) 342-1263Fax: (650) 887-2113\n\nConferenc
 e Center:Grand Hyatt Kauai Resort and Spa 1571 Poipu RoadKoloa, Hawaii
  (HI) 96756United States\nPhone: (808) 742-1234Fax: (808) 742-1557\n D
 escription:At the conclusion of this activity, participants should be 
 able to:\n- Describe interventional radiologic procedures for clinical
  cancer management.\n- Discuss the treatment of common vascular diseas
 es.\n- Explain the performance and processing of MRI and CT studies de
 signed to depict anatomy and pathology in state-of-the art 3D display 
 format.\n- Use contemporary imaging techniques and protocols to accura
 tely diagnose, stage and manage diseases and injuries of the musculosk
 eletal system.\n- Describe the imaging anatomy and protocols that are 
 necessary to arrive at a diagnosis of intracranial diseases.\n- Develo
 p differential diagnosis that relates to the pertinent imaging and cli
 nically relevant findings for each of the cases covered in this course
 .\n- Outline the fundamentals of the latest advanced techniques in MRI
  and CT and their current roles and limitations in clinical practice.\
 n- Integrate information presented in this course into efforts to impr
 ove the imaging skills of the participants.\nSelf Assessment Module (S
 AM): No\nInstructors:Please visit the CME Science website for more inf
 ormation.\nSpecialty Audience:Radiology\n\nFor more information visit 
 https://community.radrounds.com/events/imaging-in-hawaii
DTSTART:20120327T040000Z
DTEND:20120331T035900Z
CATEGORIES:radiology
LOCATION:Grand Hyatt Kauai Resort and Spa
WEBSITE:http://kauai.hyatt.com/hyatt/hotels/index.jsp?null
URL:http://kauai.hyatt.com/hyatt/hotels/index.jsp?null
CONTACT:(808) 742-1234
ORGANIZER:CME Science
ATTACH;FMTTYPE="image/jpeg":
ATTENDEE;ROLE=REQ-PARTICIPANT;PARTSTAT=ACCEPTED;RSVP=TRUE;CN="radRound
 s Radiology Events":https://community.radrounds.com/profile/radRoundsR
 adiologyEvents
END:VEVENT
END:VCALENDAR
