BEGIN:VCALENDAR
PRODID:NingEventWidget-v1
VERSION:2.0
METHOD:PUBLISH
BEGIN:VEVENT
UID:1791588:Event:176806
DTSTAMP:20260421T113414Z
SUMMARY:Imaging In England 2018
DESCRIPTION:Join the luminaries in Radiology: Donald Resnick, Lászl
 ó Tabár, Phillip Tirman, Blake Johnson, and Neil Rofsky for cutt
 ing edge lectures at the #1 ranked University in the World. Local radi
 ologists from the UK including Radiopaedia editor Vikas Shah , MSK u
 ltrasound pioneer David Wilson​, and spine MRI expert Simon Blease
  will also present lectures. Oxford University was recently named by 
 Condé Nast Traveler as one of the most beautiful places to visit in 
 Europe. The city of Oxford was awarded the most entertaining city in
  the UK. Oxford is an easy drive from London, with both Heathrow an
 d Gatwick airports offering 24/7 shuttle service. Nicknamed the \"C
 ity of Dreaming Spires” you can visit the world famous Ashmolean Mu
 seum, which opened in 1683 and was the 1st museum to welcome the publi
 c. Explore Oxford Castle, showcasing 1000 years of Oxford history.  
  This is a unique opportunity to meet radiologists from all corners of
  the globe in an intriguing location, and learn from some of the best
  specialists in their field. Indulge all your senses and join the Glo
 bal Rads for the trip of a lifetime to Oxford, England in June, 2018!
 \n\nFor more information visit https://community.radrounds.com/events/
 imaging-in-england-2018
DTSTART:20180603T210000Z
DTEND:20180606T203000Z
CATEGORIES:radiology, conference
LOCATION:University of Oxford
WEBSITE:https://www.globalradcme.com/imaginginengland2018
URL:https://www.globalradcme.com/imaginginengland2018
CONTACT:314-472-3263
ORGANIZER:Global Radiology CME
ATTACH;FMTTYPE="image/jpeg":http://storage.ning.com/topology/rest/1.0/
 file/get/1044773971?profile=original
ATTENDEE;ROLE=REQ-PARTICIPANT;PARTSTAT=ACCEPTED;RSVP=TRUE;CN="Kevin Ri
 ce":https://community.radrounds.com/profile/KevinRice
END:VEVENT
END:VCALENDAR
