BEGIN:VCALENDAR
PRODID:NingEventWidget-v1
VERSION:2.0
METHOD:PUBLISH
BEGIN:VEVENT
UID:1791588:Event:172832
DTSTAMP:20260420T112650Z
SUMMARY:Imaging for Athletes (Live Webinar)
DESCRIPTION:Course Topics\n\nExcerpts from the \"League of Denial: The
  NFL's Concussion Crisis\"\nCase Studies of Retired and Deceased NFL P
 layers\nChronic Traumatic Encephalopathy and Tau Proteins in Brain Tis
 sue\nPre-Autopsy PET Scans\nHigh-School Concussions and GABA\nNFL Laws
 uit\nAnatomy of the Spine and Spinal Cord\nWhich Modality Should We Us
 e to Image the Spine?\nWhy Should We Care About Imaging the Spine?\n\n
 \nFor more information visit https://community.radrounds.com/events/im
 aging-for-athletes-live-webinar
DTSTART:20171221T230000Z
DTEND:20171222T013000Z
CATEGORIES:live, webinar
LOCATION:Advanced Health Education Center
WEBSITE:https://store.aheconline.com/index.php?route=product/product&p
 ath=59&product_id=2991
URL:https://store.aheconline.com/index.php?route=product/product&path=
 59&product_id=2991
CONTACT:800-239-1361
ORGANIZER;CN="Larry Carney":https://community.radrounds.com/profile/La
 rryCarney
ATTACH;FMTTYPE="image/jpeg":
ATTENDEE;ROLE=REQ-PARTICIPANT;PARTSTAT=ACCEPTED;RSVP=TRUE;CN="Larry Ca
 rney":https://community.radrounds.com/profile/LarryCarney
END:VEVENT
END:VCALENDAR
