BEGIN:VCALENDAR
PRODID:NingEventWidget-v1
VERSION:2.0
METHOD:PUBLISH
BEGIN:VEVENT
UID:1791588:Event:172552
DTSTAMP:20260422T163950Z
SUMMARY:Imaging Care for All (Live Webinar)
DESCRIPTION:Course Objectives:\nAt the conclusion of the course, the t
 echnologist should be able to:\n1. Define osteoporosis\n2. Discuss the
  effects of osteoporosis on females\n3. Discuss the nutritional intake
  and statistics on the female\n4. Discuss the economic impact of osteo
 porosis\n5. Define a dual energy x-ray\n6. Discuss radiographic demons
 tration using imaging modalities other than x-ray\n7. Discuss the trea
 tment and prevention of female specific osteoporosis\n8. Demonstrate 
 methods pediatric radiation dose management in digital radiography and
  fluoroscopy imaging.\n9. Identify imaging practices specific to the p
 ediatric population, taking into consideration the age and size of the
  patient.\n\nFor more information visit https://community.radrounds.co
 m/events/imaging-care-for-all-live-webinar
DTSTART:20170814T220000Z
DTEND:20170815T003000Z
CATEGORIES:live, webinar
LOCATION:Advanced Health Education Center
WEBSITE:https://store.aheconline.com/index.php?route=product/product&p
 ath=59_167&product_id=2972
URL:https://store.aheconline.com/index.php?route=product/product&path=
 59_167&product_id=2972
CONTACT:800-239-1361
ORGANIZER;CN="Larry Carney":https://community.radrounds.com/profile/La
 rryCarney
ATTACH;FMTTYPE="image/jpeg":
ATTENDEE;ROLE=REQ-PARTICIPANT;PARTSTAT=ACCEPTED;RSVP=TRUE;CN="Larry Ca
 rney":https://community.radrounds.com/profile/LarryCarney
END:VEVENT
END:VCALENDAR
