BEGIN:VCALENDAR
PRODID:NingEventWidget-v1
VERSION:2.0
METHOD:PUBLISH
BEGIN:VEVENT
UID:1791588:Event:172723
DTSTAMP:20260420T121732Z
SUMMARY:Imaging Care for All (Live Webinar)
DESCRIPTION:Course Objectives:\nAt the conclusion of the course, the t
 echnologist should be able to:\n1.Â Â Â Â Â Â  Define osteoporosis\n2.
 Â Â Â Â Â Â  Discuss the effects of osteoporosis on females\n3.Â Â Â Â
  Â Â  Discuss the nutritional intake and statistics on the female\n4.Â
  Â Â Â Â Â  Discuss the economic impact of osteoporosis\n5.Â Â Â Â Â Â
   Define a dual energy x-ray\n6.Â Â Â Â Â Â  Discuss radiographic demo
 nstration using imaging modalities other than x-ray\n7.Â Â Â Â Â Â  Di
 scuss the treatment and prevention of female specific osteoporosis\n8.
  Â  Â  Â  Demonstrate methods pediatric radiation dose management in d
 igital radiography and fluoroscopy imaging.\nÂ  Â  Â  Â  Â  Â  Â  Â  9
 . Â  Â  Â  Identify imaging practices specific to the pediatric popula
 tion, taking into consideration the age and size of the patient.\n\nFo
 r more information visit https://community.radrounds.com/events/imagin
 g-care-for-all-live-webinar-2
DTSTART:20171204T230000Z
DTEND:20171205T013000Z
CATEGORIES:live, webinar
LOCATION:Advanced Health Education Center
WEBSITE:https://store.aheconline.com/index.php?route=product/product&p
 ath=59&product_id=2989
URL:https://store.aheconline.com/index.php?route=product/product&path=
 59&product_id=2989
CONTACT:800-239-1361
ORGANIZER;CN="Larry Carney":https://community.radrounds.com/profile/La
 rryCarney
ATTACH;FMTTYPE="image/jpeg":
ATTENDEE;ROLE=REQ-PARTICIPANT;PARTSTAT=ACCEPTED;RSVP=TRUE;CN="Larry Ca
 rney":https://community.radrounds.com/profile/LarryCarney
END:VEVENT
END:VCALENDAR
