BEGIN:VCALENDAR
PRODID:NingEventWidget-v1
VERSION:2.0
METHOD:PUBLISH
BEGIN:VEVENT
UID:1791588:Event:115920
DTSTAMP:20260424T213600Z
SUMMARY:Imaging: Beyond the Normal Patient
DESCRIPTION:Imaging: Beyond the Normal Patient Saturday, February 11, 
 2012 - Saturday, February 11, 2012Woodland Heights Medical CenterLufki
 n, Texas (TX), United StatesProvided by Advanced Health Education Cent
 er  CME Provider: Advanced Health Education Center 8502 Tybor DriveHou
 ston, Texas (TX) 77074United States\nToll Free: (800) 239-1361Phone: (
 713) 772-0157Fax: (713) 772-0155\n\nConference Center:Woodland Heights
  Medical Center302 Medical Park Drive Suite 103The Affinity CenterLufk
 in, Texas (TX) 75904United States\nPhone: 936-634-8311\n Description:N
 ow we all know that in any radiology department there is a wide span o
 f patients on a daily basis and our job in imaging them optimally may 
 be a challenge, right? Well this new course will visit each area out o
 f the \"norm\" that challenge us and discuss the do's and dont's for o
 ptimal image quality and patient care. This out of the ordinary day wi
 ll keep you on your toes with image formation, trauma, and special pat
 ient populations. Register and reserve your seat for a front row look 
 at these special situations!\nCourse Topicsâ€¢ Image formation and aqu
 isition â€¢ Imaging Pediatric Patientsâ€¢ Imaging the Elderly Patientâ
 €¢ Trauma Patients- Do and Dont'sâ€¢ Imaging Special Patient Populatio
 nsâ€¢ Positioniong to demonstrate pathologyâ€¢ CT and Ultrasound in th
 e ERâ€¢ Equipmenet limitationsâ€¢ Radiation Exposure Concerns\nSelf As
 sessment Module (SAM): No\nInstructors:Mark Struthers BSRT,RT(R)(MR),C
 MRT,CIIP\nSpecialty Audience:Radiology\n\nFor more information visit h
 ttps://community.radrounds.com/events/imaging-beyond-the-normal-patien
 t
DTSTART:20120211T050000Z
DTEND:20120212T045900Z
CATEGORIES:radiology
LOCATION:Woodland Heights Medical Center - The Affinity Center
WEBSITE:
URL:
CONTACT:936-634-8311
ORGANIZER:Advanced Health Education Center
ATTACH;FMTTYPE="image/jpeg":
ATTENDEE;ROLE=REQ-PARTICIPANT;PARTSTAT=ACCEPTED;RSVP=TRUE;CN="radRound
 s Radiology Events":https://community.radrounds.com/profile/radRoundsR
 adiologyEvents
END:VEVENT
END:VCALENDAR
