BEGIN:VCALENDAR
PRODID:NingEventWidget-v1
VERSION:2.0
METHOD:PUBLISH
BEGIN:VEVENT
UID:1791588:Event:116290
DTSTAMP:20260422T222700Z
SUMMARY:Imaging: Beyond the Normal Patient
DESCRIPTION:Imaging: Beyond the Normal Patient Saturday, May 19, 2012 
 - Saturday, May 19, 2012Hampton Inn Mt. Pleasant, Texas (TX), United S
 tatesProvided by Advanced Health Education Center  CME Provider: Advan
 ced Health Education Center 8502 Tybor DriveHouston, Texas (TX) 77074U
 nited States\nToll Free: (800) 239-1361Phone: (713) 772-0157Fax: (713)
  772-0155\n\nConference Center:Hampton Inn 2504 W. FergusonMt. Pleasan
 t, Texas (TX) 75455United States\nPhone: (903) 572-7100\nDescription:N
 ow we all know that in any radiology department there is a wide span o
 f patients on a daily basis and our job in imaging them optimally may 
 be a challenge, right? Well this new course will visit each area out o
 f the \"norm\" that challenge us and discuss the do's and dont's for o
 ptimal image quality and patient care. This out of the ordinary day wi
 ll keep you on your toes with image formation, trauma, and special pat
 ient populations. Register and reserve your seat for a front row look 
 at these special situations!\nCourse Topicsâ€¢ Image formation and aqu
 isition â€¢ Imaging Pediatric Patientsâ€¢ Imaging the Elderly Patientâ
 €¢ Trauma Patients- Do and Dont'sâ€¢ Imaging Special Patient Populatio
 nsâ€¢ Positioniong to demonstrate pathologyâ€¢ CT and Ultrasound in th
 e ERâ€¢ Equipmenet limitationsâ€¢ Radiation Exposure Concerns\nSelf As
 sessment Module (SAM): No\nInstructors:Mark StruthersBSRT,RT(R)(MR),CM
 RT,CIIP\nSpecialty Audience:Radiology\n\nFor more information visit ht
 tps://community.radrounds.com/events/imaging-beyond-the-normal-patient
 -1
DTSTART:20120519T040000Z
DTEND:20120520T035900Z
CATEGORIES:radiology
LOCATION:Hampton Inn
WEBSITE:http://hamptoninn.hilton.com/en/hp/hotels/index.jhtml?ctyhocn=
 MTPTXHX
URL:http://hamptoninn.hilton.com/en/hp/hotels/index.jhtml?ctyhocn=MTPT
 XHX
CONTACT:(903) 572-7100
ORGANIZER:Advanced Health Education Center
ATTACH;FMTTYPE="image/jpeg":
ATTENDEE;ROLE=REQ-PARTICIPANT;PARTSTAT=ACCEPTED;RSVP=TRUE;CN="radRound
 s Radiology Events":https://community.radrounds.com/profile/radRoundsR
 adiologyEvents
END:VEVENT
END:VCALENDAR
