BEGIN:VCALENDAR
PRODID:NingEventWidget-v1
VERSION:2.0
METHOD:PUBLISH
BEGIN:VEVENT
UID:1791588:Event:183133
DTSTAMP:20260423T103722Z
SUMMARY:Imaging Beyond Bones (Live Webinar)
DESCRIPTION:Course Topics\n\nOsteology\nPlatform for positioning\n\n\n
 Positioning for Radiology\nKnowledge of anatomy and physiology\nSurfac
 e anatomy\nAnatomy not easily palpable\n\n\nModalities with radiation\
 nInterventional radiology\nCT\n\n\nModalities without radiation\nUltra
 sound\nAblation\nMRI\n\n\nProcedures using imaging\nBiopsy\nDrainage\n
 Catheter insertion\n\n\n\n\nFor more information visit https://communi
 ty.radrounds.com/events/imaging-beyond-bones-live-webinar
DTSTART:20180714T170000Z
DTEND:20180714T190000Z
CATEGORIES:live, webinar
LOCATION:Advanced Health Education Center
WEBSITE:https://store.aheconline.com/
URL:https://store.aheconline.com/
CONTACT:7137720157
ORGANIZER;CN="Larry Carney":https://community.radrounds.com/profile/La
 rryCarney
ATTACH;FMTTYPE="image/jpeg":
ATTENDEE;ROLE=REQ-PARTICIPANT;PARTSTAT=ACCEPTED;RSVP=TRUE;CN="Larry Ca
 rney":https://community.radrounds.com/profile/LarryCarney
END:VEVENT
END:VCALENDAR
