BEGIN:VCALENDAR
PRODID:NingEventWidget-v1
VERSION:2.0
METHOD:PUBLISH
BEGIN:VEVENT
UID:1791588:Event:183129
DTSTAMP:20260423T055837Z
SUMMARY:Imaging and Staging Breast Cancer (Live Webinar)
DESCRIPTION:Course Topics\n\nDoes Every Breast Cancer Patient Need MRI
 ? \nUpdate on High Risk Lesions \nBreast Tomography Update \nWhole 
 Breast Ultrasound\n\n\nFor more information visit https://community.ra
 drounds.com/events/imaging-and-staging-breast-cancer-live-webinar
DTSTART:20180712T220000Z
DTEND:20180713T010000Z
CATEGORIES:live, webinar
LOCATION:Advanced Health Education Center
WEBSITE:https://store.aheconline.com/
URL:https://store.aheconline.com/
CONTACT:7137720157
ORGANIZER;CN="Larry Carney":https://community.radrounds.com/profile/La
 rryCarney
ATTACH;FMTTYPE="image/jpeg":
ATTENDEE;ROLE=REQ-PARTICIPANT;PARTSTAT=ACCEPTED;RSVP=TRUE;CN="Larry Ca
 rney":https://community.radrounds.com/profile/LarryCarney
END:VEVENT
END:VCALENDAR
