BEGIN:VCALENDAR
PRODID:NingEventWidget-v1
VERSION:2.0
METHOD:PUBLISH
BEGIN:VEVENT
UID:1791588:Event:190538
DTSTAMP:20260421T192832Z
SUMMARY:Imaging and Staging Breast Cancer (Live Webinar)
DESCRIPTION:Course Topics:\nDoes Every Breast Cancer Patient Need MRI?
  - Gary J. Whitman, M.D.\n\nMRI Applications for Breast Cancer\nCase S
 tudies\n\nUpdate on High Risk Lesions - Gary J. Whitman, M.D.\n\nTypes
  of High Risk Lesions\nMammography Tips for Imaging High Risk Lesions\
 nCase Studies\n\nBreast Tomography Update -  Michelle Keck, BSRT, RT(
 R)(M)(BS)\n\nHX of Breast Tomography\nPros, Cons and Safety\nRequireme
 nts to Perform Tomography\nCase Study and Images\nTomo vs. Spot Films\
 n\nWhole Breast Ultrasound -  Michelle Keck, BSRT, RT(R)(M)(BS)\n\nDe
 fining Whole Breast Ultrasound\nAre You Dense? Movement\nWho Needs Bre
 ast US\nPros and Cons of Breast US\nCase Study Images\n\n\nFor more in
 formation visit https://community.radrounds.com/events/imaging-and-sta
 ging-breast-cancer-live-webinar-6
DTSTART:20190510T140000Z
DTEND:20190510T170000Z
CATEGORIES:live, webinar
LOCATION:Advanced Health Education Center
WEBSITE:https://store.aheconline.com/
URL:https://store.aheconline.com/
CONTACT:1 (800) 239-1361
ORGANIZER:AHEC
ATTACH;FMTTYPE="image/jpeg":
ATTENDEE;ROLE=REQ-PARTICIPANT;PARTSTAT=ACCEPTED;RSVP=TRUE;CN="Larry Ca
 rney":https://community.radrounds.com/profile/LarryCarney
END:VEVENT
END:VCALENDAR
