BEGIN:VCALENDAR
PRODID:NingEventWidget-v1
VERSION:2.0
METHOD:PUBLISH
BEGIN:VEVENT
UID:1791588:Event:195631
DTSTAMP:20260422T044735Z
SUMMARY:Imaging and Staging Breast Cancer (Live Webinar)
DESCRIPTION:Course Topics\n\nDoes Every Breast Cancer Patient Need MRI
 ? \nUpdate on High Risk Lesions \nBreast Tomography Update \nWhole 
 Breast Ultrasound\n\n\nFor more information visit https://community.ra
 drounds.com/events/imaging-and-staging-breast-cancer-live-webinar-15
DTSTART:20200108T140000Z
DTEND:20200108T170000Z
CATEGORIES:live, webinar
LOCATION:Advanced Health Education Center
WEBSITE:http://store.aheconline.com
URL:http://store.aheconline.com
CONTACT:1(800) 239-1361
ORGANIZER:AHEC
ATTACH;FMTTYPE="image/jpeg":
ATTENDEE;ROLE=REQ-PARTICIPANT;PARTSTAT=ACCEPTED;RSVP=TRUE;CN="Larry Ca
 rney":https://community.radrounds.com/profile/LarryCarney
END:VEVENT
END:VCALENDAR
