BEGIN:VCALENDAR
PRODID:NingEventWidget-v1
VERSION:2.0
METHOD:PUBLISH
BEGIN:VEVENT
UID:1791588:Event:116518
DTSTAMP:20260423T001609Z
SUMMARY:Image-Based Neurodiagnosis: Intensive Clinical and Radiologic 
 Review, CAQ Preparation
DESCRIPTION:Image-Based Neurodiagnosis: Intensive Clinical and Radiolo
 gic Review, CAQ Preparation Thursday, May 17, 2012 - Sunday, May 20, 2
 012ProScan Imaging Theater Cincinnati, Ohio (OH), United StatesProvide
 d by ProScan Imaging Education Foundation  CME Provider: ProScan Imagi
 ng Education Foundation Michelle Wallace5400 Kennedy AvenueCincinnati,
  Ohio (OH) 45213United States\nToll Free: (866) MRI-EDUCPhone: (513) 9
 24-5365Fax: (513) 352-9434\n\nConference Center:ProScan Imaging Theate
 r ProScan Imaging Education Foundation5400 Kennedy AvenueCincinnati, O
 hio (OH) 45213United States\nToll Free: (866) MRI-EDUCPhone: (513) 924
 -5365Fax: (513) 352-9434\nDescription:\"Image-Based Neurodiagnosis” 
 is designed for the practicing radiologist, neurosurgeon, neurologist,
  or related specialist seeking a thorough review of advanced neuroimag
 ing principles, anatomy, and exhaustive case material. Discussions of 
 imaging strategies and new modalities will be correlated with a broad 
 range of specific clinical images, focusing on the development of appr
 opriate differential diagnoses and the distinctions that will aid in t
 he resolution of clinical diagnostic dilemmas. This course will includ
 e both adult and pediatric entities, covering the range of subjects in
 cluded in the American Board of Radiology’s Certificate of Added Qua
 lification (CAQ) in Neuroradiology examination.\nDuring the popular ca
 se review sessions, Malcolm Shupeck, M.D., F.A.C.S., Associate Medical
  Director, will present selected cases with Stephen J. Pomeranz, M.D. 
 Each case will be discussed with particular teaching points that suppl
 ement the course lectures, and the reports generated will be distribut
 ed to all attendees.\nSelf Assessment Module (SAM): No\nInstructors:St
 ephen J. Pomeranz, M.D. Malcolm Shupeck, M.D., F.A.C.S.\nSpecialty Aud
 ience:Radiology\n\nFor more information visit https://community.radrou
 nds.com/events/image-based-neurodiagnosis-intensive-clinical-and-radio
 logic
DTSTART:20120517T040000Z
DTEND:20120521T035900Z
CATEGORIES:radiology
LOCATION:ProScan Imaging Theater - ProScan Imaging Education Foundatio
 n
WEBSITE:http://www.proscan.com/fw/main/Education-Foundation-134.html
URL:http://www.proscan.com/fw/main/Education-Foundation-134.html
CONTACT:(513) 924-5365
ORGANIZER:ProScan Imaging Education Foundation
ATTACH;FMTTYPE="image/jpeg":
ATTENDEE;ROLE=REQ-PARTICIPANT;PARTSTAT=ACCEPTED;RSVP=TRUE;CN="radRound
 s Radiology Events":https://community.radrounds.com/profile/radRoundsR
 adiologyEvents
END:VEVENT
END:VCALENDAR
