BEGIN:VCALENDAR
PRODID:NingEventWidget-v1
VERSION:2.0
METHOD:PUBLISH
BEGIN:VEVENT
UID:1791588:Event:172655
DTSTAMP:20260421T161254Z
SUMMARY:How to Keep Your Cool: Stress Management (Live Webinar)
DESCRIPTION:Stress Management is an overview course in which participa
 nts will identify typical causes of stress, examine the impact of stre
 ss on work performance, and learn effective ways to manage stress.\n\n
 For more information visit https://community.radrounds.com/events/how-
 to-keep-your-cool-stress-management-live-webinar
DTSTART:20171026T220000Z
DTEND:20171026T230000Z
CATEGORIES:live, webinar
LOCATION:Advanced Health Education Center
WEBSITE:https://store.aheconline.com/index.php?route=product/product&p
 ath=59&product_id=3055
URL:https://store.aheconline.com/index.php?route=product/product&path=
 59&product_id=3055
CONTACT:800-239-1361
ORGANIZER;CN="Larry Carney":https://community.radrounds.com/profile/La
 rryCarney
ATTACH;FMTTYPE="image/jpeg":
ATTENDEE;ROLE=REQ-PARTICIPANT;PARTSTAT=ACCEPTED;RSVP=TRUE;CN="Larry Ca
 rney":https://community.radrounds.com/profile/LarryCarney
END:VEVENT
END:VCALENDAR
