BEGIN:VCALENDAR
PRODID:NingEventWidget-v1
VERSION:2.0
METHOD:PUBLISH
BEGIN:VEVENT
UID:1791588:Event:168060
DTSTAMP:20260422T083226Z
SUMMARY:Hot Topics in Mammographic imaging
DESCRIPTION:Course Topics Coming Soon!\n\nFor more information visit h
 ttps://community.radrounds.com/events/hot-topics-in-mammographic-imagi
 ng
DTSTART:20161029T120000Z
DTEND:20161029T173000Z
CATEGORIES:live, event
LOCATION:Lubbock
WEBSITE:https://store.aheconline.com/index.php?route=product/product&p
 ath=59&product_id=2383
URL:https://store.aheconline.com/index.php?route=product/product&path=
 59&product_id=2383
CONTACT:18002391361
ORGANIZER;CN="Larry Carney":https://community.radrounds.com/profile/La
 rryCarney
ATTACH;FMTTYPE="image/jpeg":
ATTENDEE;ROLE=REQ-PARTICIPANT;PARTSTAT=ACCEPTED;RSVP=TRUE;CN="Larry Ca
 rney":https://community.radrounds.com/profile/LarryCarney
END:VEVENT
END:VCALENDAR
