BEGIN:VCALENDAR
PRODID:NingEventWidget-v1
VERSION:2.0
METHOD:PUBLISH
BEGIN:VEVENT
UID:1791588:Event:123373
DTSTAMP:20260422T014006Z
SUMMARY:Hot Topics in Diagnostic Imaging
DESCRIPTION:Here is a class you've have been waiting for! A day that w
 ill cover numerous topics of interest for every radiographer. We will 
 keep you busy and enlightened with topics you don’t want to miss. We
  will hit on topics regarding quality imaging, ethical issues in radio
 logy, and sentinel events.  The course will conclude with interactive
  sessions about supercomputers and social media in the radiology depar
 tment.  You will receive 8 hours of credit for that day.\n\nFor more 
 information visit https://community.radrounds.com/events/hot-topics-in
 -diagnostic-imaging-1
DTSTART:20120721T120000Z
DTEND:20120721T201500Z
CATEGORIES:ce, course
LOCATION:Hillcrest Baptist Medical Center
WEBSITE:http://store.aheconline.com/DisplayDetail.aspx?pid=7295
URL:http://store.aheconline.com/DisplayDetail.aspx?pid=7295
CONTACT:800-239-1361
ORGANIZER:Advanced Health Education Center
ATTACH;FMTTYPE="image/jpeg":
ATTENDEE;ROLE=REQ-PARTICIPANT;PARTSTAT=ACCEPTED;RSVP=TRUE;CN="Larry Ca
 rney":https://community.radrounds.com/profile/LarryCarney
END:VEVENT
END:VCALENDAR
