BEGIN:VCALENDAR
PRODID:NingEventWidget-v1
VERSION:2.0
METHOD:PUBLISH
BEGIN:VEVENT
UID:1791588:Event:182927
DTSTAMP:20260423T153003Z
SUMMARY:Highlighting the Radiographer's Role in Orthopedic Injuries (L
 ive Webinar)
DESCRIPTION:Orthopedic Injuries from sports and overuse require radiol
 ogic technologists to adapt routine radiographic views to meet the nee
 ds of the situation.  You will learn about the most common types of i
 njuries and what you can do as a technologist to obtain the best image
 s.  You’ll learn about the types of imaging modalities that are use
 ful in diagnosing specific injuries, and gain a better understanding o
 f the future of orthopedic medicine and imaging.\n\nFor more informati
 on visit https://community.radrounds.com/events/highlighting-the-radio
 grapher-s-role-in-orthopedic-injuries-live
DTSTART:20180716T220000Z
DTEND:20180717T000000Z
CATEGORIES:live, webinar
LOCATION:Advanced Health Education Center
WEBSITE:https://store.aheconline.com/
URL:https://store.aheconline.com/
CONTACT:7137720157
ORGANIZER;CN="Larry Carney":https://community.radrounds.com/profile/La
 rryCarney
ATTACH;FMTTYPE="image/jpeg":
ATTENDEE;ROLE=REQ-PARTICIPANT;PARTSTAT=ACCEPTED;RSVP=TRUE;CN="Larry Ca
 rney":https://community.radrounds.com/profile/LarryCarney
END:VEVENT
END:VCALENDAR
