BEGIN:VCALENDAR
PRODID:NingEventWidget-v1
VERSION:2.0
METHOD:PUBLISH
BEGIN:VEVENT
UID:1791588:Event:183104
DTSTAMP:20260422T181209Z
SUMMARY:Highlighting the Radiographer's Role in Orthopedic Imaging
DESCRIPTION:Course Outline:\nOverview of Sports Medicine\n\nInjuries â
 €“ Over Use Trauma\nImaging in Sports Medicine\nAge Specific â€“ Sport
 s Tips\nFuture of Sports and Orthopedic Medicine\n\n\nFor more informa
 tion visit https://community.radrounds.com/events/highlighting-the-rad
 iographer-s-role-in-orthopedic-imaging
DTSTART:20180706T150000Z
DTEND:20180706T170000Z
CATEGORIES:live, webinar
LOCATION:Advanced Health Education Center
WEBSITE:https://store.aheconline.com/
URL:https://store.aheconline.com/
CONTACT:800-239-1361
ORGANIZER;CN="Larry Carney":https://community.radrounds.com/profile/La
 rryCarney
ATTACH;FMTTYPE="image/jpeg":
ATTENDEE;ROLE=REQ-PARTICIPANT;PARTSTAT=ACCEPTED;RSVP=TRUE;CN="Larry Ca
 rney":https://community.radrounds.com/profile/LarryCarney
END:VEVENT
END:VCALENDAR
