BEGIN:VCALENDAR
PRODID:NingEventWidget-v1
VERSION:2.0
METHOD:PUBLISH
BEGIN:VEVENT
UID:1791588:Event:182814
DTSTAMP:20260422T215128Z
SUMMARY:Highlighting the Radiographer's Role in Orthopedic Imaging (Li
 ve Webinar)
DESCRIPTION:Orthopedic Injuries from sports and overuse require radiol
 ogic technologists to adapt routine radiographic views to meet the nee
 ds of the situation. You will learn about the most common types of inj
 uries and what you can do as a technologist to obtain the best images.
  You’ll learn about the types of imaging modalities that are useful 
 in diagnosing specific injuries, and gain a better understanding of th
 e future of orthopedic medicine and imaging.\n\nFor more information v
 isit https://community.radrounds.com/events/highlighting-the-radiograp
 her-s-role-in-orthopedic-imaging-live
DTSTART:20180710T150000Z
DTEND:20180710T170000Z
CATEGORIES:live, webinar
LOCATION:Advanced Health Education Center
WEBSITE:https://store.aheconline.com/
URL:https://store.aheconline.com/
CONTACT:800-239-1361
ORGANIZER;CN="Larry Carney":https://community.radrounds.com/profile/La
 rryCarney
ATTACH;FMTTYPE="image/jpeg":
ATTENDEE;ROLE=REQ-PARTICIPANT;PARTSTAT=ACCEPTED;RSVP=TRUE;CN="Larry Ca
 rney":https://community.radrounds.com/profile/LarryCarney
END:VEVENT
END:VCALENDAR
