BEGIN:VCALENDAR
PRODID:NingEventWidget-v1
VERSION:2.0
METHOD:PUBLISH
BEGIN:VEVENT
UID:1791588:Event:88214
DTSTAMP:20260425T142306Z
SUMMARY:Hands-On Carotid & Vertebral Duplex Ultrasound Imaging
DESCRIPTION:Now in its 30th year;for allied health professionals and p
 hysicians alike.  Earn up to 10 hours of AMA PRA Category 1 CME credi
 t (TM).  Yours will be a close audience with the one person in histor
 y who has maintained the longest connection with high resolution vascu
 lar imaging. Keith Mauney learned helped shape the skills and science 
 of carotid imaging from the days it was a prototype at Bell Laboratori
 es in 1978. His experience at the bedside, in the science and industry
 , and classroom is unmatched anywhere. Together, you’ll go through t
 he entire protocol and its targeted application to the interdiction of
  stroke, learning the skills and secrets to solve any circumstance you
 ’ll ever encounter. Every word spoken addressees exam content on any
  of the credentialing agency examinations, and every question you can 
 ever imagine will be answered for you in understandable terms, both in
  class and by free post conference mentoring, forever. Inspect the com
 plete info, objectives, and our learning strategy at  \nhttp://kmault
 rasound.com/courseinfo_cvimaging.html.  Class size is strictly limite
 d; join us in class or request an onsite presentation for your entire 
 group: http://www.kmaultrasound.com/tutorial_info.html.  Ongoing clas
 ses resume monthly beginining January, 2012.\n\n\nFor more information
  visit https://community.radrounds.com/events/handson-carotid-vertebra
 l-4
DTSTART:20111117T140000Z
DTEND:20111118T200000Z
CATEGORIES:vascular, sonographer, carotid, ultrasound, cme
LOCATION:Dallas (Irving), Texas
WEBSITE:http://kmaultrasound.com/Online_hotel_reservation_frm.html
URL:http://kmaultrasound.com/Online_hotel_reservation_frm.html
CONTACT:800/845-3484     972/353-3200
ORGANIZER:Keith Mauney & Associates Ultrasound Training Institutes
ATTACH;FMTTYPE="image/jpeg":http://storage.ning.com/topology/rest/1.0/
 file/get/1044729356?profile=original
ATTENDEE;ROLE=REQ-PARTICIPANT;PARTSTAT=ACCEPTED;RSVP=TRUE;CN="Keith A.
  Mauney":https://community.radrounds.com/profile/KeithAMauney
END:VEVENT
END:VCALENDAR
