BEGIN:VCALENDAR
PRODID:NingEventWidget-v1
VERSION:2.0
METHOD:PUBLISH
BEGIN:VEVENT
UID:1791588:Event:116217
DTSTAMP:20260423T171517Z
SUMMARY:Hands on Screening Course/How to Find Breast Cancer When It Is
  Still Small
DESCRIPTION:Hands on Screening Course/How to Find Breast Cancer When I
 t Is Still Small Tuesday, March 27, 2012 - Friday, March 30, 2012Doubl
 etree Paradise Valley Resort Scottsdale, Arizona (AZ), United StatesPr
 ovided by Mammography Education, Inc.  CME Provider: Mammography Educa
 tion, Inc. Laszlo Tabar, M.D.4429 E Spur DriveCave Creek, Arizona (AZ)
  85331United States\nPhone: (480) 419-0227Fax: (480) 419-0219\n\nConfe
 rence Center:Doubletree Paradise Valley Resort 5401 N. Scottsdale Rd.S
 cottsdale, Arizona (AZ) 85250-7090United States\nPhone: (480) 947-5400
 Fax: (480) 443-9702\n Description:Four Day Hands on Screening Course\n
 Self Assessment Module (SAM): Yes\nInstructors:Laszlo Tabar, M.D. F.A.
 C.R.(Hon)\nMarc Inciardi,M.D.Assistant Professor of RadiologySection H
 ead, Breast ImagingUniversity of Kansas Medical Center\nSpecialty Audi
 ence:Radiology\n\nFor more information visit https://community.radroun
 ds.com/events/hands-on-screening-course-how-to-find-breast-cancer-when
 -it-is
DTSTART:20120327T040000Z
DTEND:20120331T035900Z
CATEGORIES:radiology
LOCATION:Doubletree Paradise Valley Resort
WEBSITE:http://doubletree1.hilton.com/en_US/dt/hotel/PHXSJDT-Doubletre
 e-Paradise-Valley-Resort-Scottsdale-Arizona/index.do
URL:http://doubletree1.hilton.com/en_US/dt/hotel/PHXSJDT-Doubletree-Pa
 radise-Valley-Resort-Scottsdale-Arizona/index.do
CONTACT:(480) 947-5400
ORGANIZER:Mammography Education, Inc.
ATTACH;FMTTYPE="image/jpeg":
ATTENDEE;ROLE=REQ-PARTICIPANT;PARTSTAT=ACCEPTED;RSVP=TRUE;CN="radRound
 s Radiology Events":https://community.radrounds.com/profile/radRoundsR
 adiologyEvents
END:VEVENT
END:VCALENDAR
