BEGIN:VCALENDAR
PRODID:NingEventWidget-v1
VERSION:2.0
METHOD:PUBLISH
BEGIN:VEVENT
UID:1791588:Event:159327
DTSTAMP:20260421T163226Z
SUMMARY:Hands-On Cardiac Ultrasound Imaging & Doppler 2015
DESCRIPTION:h\n\nThe most effective week in echocardiography you'll ev
 er spend\nForty years of experience stand behind the doing and teachin
 g of this most effective experience. Learn the complete transthoracic 
 echo protocol: 2-D, M-mode, color and spectral Doppler, tissue velocit
 y, and diastolic dysfunction. Each step and every measurement will be 
 carefully laid out and completely explained. The majority of our time 
 will be spent in the scan lab practicing the full echo protocol to com
 pletion. Scan Lab open 24 hours for independent practice.\nClassroom s
 essions will drive home every point in a supportive dialog fashion. Yo
 u'll feel comfortable asking any question, as many time as it takes to
  understand. After regular hours, the scan lab will be open around the
  clock for you to practice independently with classmates. And after th
 e course is complete, you'll become a permanent part of our Community,
  with forever Q & A support.\nThere is a reason students regularly tra
 vel from half way around the world to attend.\n\nFor more information 
 visit https://community.radrounds.com/events/hands-on-cardiac-ultrasou
 nd-imaging-doppler-2015-9
DTSTART:20151109T140000Z
DTEND:20151114T170000Z
CATEGORIES:hands-on_training, echocardiography, cardiac_ultrasound, co
 nference, ultrasound, training
LOCATION:The Hilton Homewood Suites Hotel in Las Colinas
WEBSITE:http://kmaultrasound.com/lodging-conference-site.html
URL:http://kmaultrasound.com/lodging-conference-site.html
CONTACT:(800) 845-3484, (972) 353-3200
ORGANIZER:Keith Mauney & Associates Ultrasound Training Institutes
ATTACH;FMTTYPE="image/jpeg":http://storage.ning.com/topology/rest/1.0/
 file/get/1044766334?profile=original
ATTENDEE;ROLE=REQ-PARTICIPANT;PARTSTAT=ACCEPTED;RSVP=TRUE;CN="Keith A.
  Mauney":https://community.radrounds.com/profile/KeithAMauney
END:VEVENT
END:VCALENDAR
