BEGIN:VCALENDAR
PRODID:NingEventWidget-v1
VERSION:2.0
METHOD:PUBLISH
BEGIN:VEVENT
UID:1791588:Event:154534
DTSTAMP:20260420T092510Z
SUMMARY:Hands-On Cardiac Ultrasound Imaging & Doppler 2014
DESCRIPTION:In less than a week you'll learn the complete echocardiogr
 aphic protocol: 2-D, M-mode, color and spectral Doppler, tissue veloci
 ty, and diastolic dysfunction.  Each step and every measurement will 
 be carefully laid out and completely explained.  The majority of our 
 time will be spent in the scan lab practicing the full echo protocol t
 o perfection.\n\nFor more information visit https://community.radround
 s.com/events/hands-on-cardiac-ultrasound-imaging-doppler-2014-2
DTSTART:20140602T040000Z
DTEND:20140607T035900Z
CATEGORIES:hands-on, echocardiography, conference, cardiac, ultrasound
 , training, cme
LOCATION:Hyatt House Suites Hotel
WEBSITE:http://kmaultrasound.com/lodging-conference-site.html
URL:http://kmaultrasound.com/lodging-conference-site.html
CONTACT:972/353-3200  800/845-3484  (CST, UTC -06:00)
ORGANIZER:Keith Mauney & Associates Ultrasound Training Institutes
ATTACH;FMTTYPE="image/jpeg":http://storage.ning.com/topology/rest/1.0/
 file/get/1044760829?profile=original
ATTENDEE;ROLE=REQ-PARTICIPANT;PARTSTAT=ACCEPTED;RSVP=TRUE;CN="Keith A.
  Mauney":https://community.radrounds.com/profile/KeithAMauney
END:VEVENT
END:VCALENDAR
