BEGIN:VCALENDAR
PRODID:NingEventWidget-v1
VERSION:2.0
METHOD:PUBLISH
BEGIN:VEVENT
UID:1791588:Event:172669
DTSTAMP:20260419T162916Z
SUMMARY:Gynecological Ultrasound (Live Event)
DESCRIPTION:Ultrasound is playing an increasingly important role in gy
 necology. Important additional information can be added to the physica
 l exam findings when the uterus and ovaries are visualized with ultras
 ound. This two day course will familiarize you with the skills and tec
 hniques needed to obtain diagnostic images. We will begin the course w
 ith a lecture reviewing the basic knowledge needed to properly perform
  and interpret transabdominal and endovaginal ultrasound scans.\nThis 
 knowledge will then be utilized in our hands on scan lab where partici
 pants have the opportunity to practice scanning a variety of models. F
 aculty supervised scanning builds confidence and aids in the hand-eye 
 coordination necessary to perform and interpret the ultrasound exam. T
 he addition of Doppler to the study will aid in the diagnosis and inte
 rpretation of pelvic pathology.\n\nFor more information visit https://
 community.radrounds.com/events/gynecological-ultrasound-live-event-2
DTSTART:20171120T130000Z
DTEND:20171121T211500Z
CATEGORIES:live, event
LOCATION:Advanced Health Education Center
WEBSITE:https://store.aheconline.com/index.php?route=product/product&p
 ath=59&product_id=2817
URL:https://store.aheconline.com/index.php?route=product/product&path=
 59&product_id=2817
CONTACT:800-239-1361
ORGANIZER;CN="Larry Carney":https://community.radrounds.com/profile/La
 rryCarney
ATTACH;FMTTYPE="image/jpeg":
ATTENDEE;ROLE=REQ-PARTICIPANT;PARTSTAT=ACCEPTED;RSVP=TRUE;CN="Larry Ca
 rney":https://community.radrounds.com/profile/LarryCarney
END:VEVENT
END:VCALENDAR
