BEGIN:VCALENDAR
PRODID:NingEventWidget-v1
VERSION:2.0
METHOD:PUBLISH
BEGIN:VEVENT
UID:1791588:Event:167967
DTSTAMP:20260421T163118Z
SUMMARY:Gynecological Ultrasound
DESCRIPTION:Course Topics\n\nPhysics and Instrumentation\nOrientation 
 and Protocols according to AIUM guidelines\nAnatomy and Normal Variant
 s\nOvarian, uterine, and tubal pathology evaluation\nEctopic Pregnancy
 \nSonohysterography\nCase Studies and Analysis\nHands-on Scan Lab\n\n\
 nFor more information visit https://community.radrounds.com/events/gyn
 ecological-ultrasound-18
DTSTART:20161111T130000Z
DTEND:20161112T211500Z
CATEGORIES:live, event
LOCATION:Houston
WEBSITE:https://store.aheconline.com/index.php?route=product/product&p
 ath=59&product_id=2241
URL:https://store.aheconline.com/index.php?route=product/product&path=
 59&product_id=2241
CONTACT:18002391361
ORGANIZER;CN="Larry Carney":https://community.radrounds.com/profile/La
 rryCarney
ATTACH;FMTTYPE="image/jpeg":
ATTENDEE;ROLE=REQ-PARTICIPANT;PARTSTAT=ACCEPTED;RSVP=TRUE;CN="Larry Ca
 rney":https://community.radrounds.com/profile/LarryCarney
END:VEVENT
END:VCALENDAR
