BEGIN:VCALENDAR
PRODID:NingEventWidget-v1
VERSION:2.0
METHOD:PUBLISH
BEGIN:VEVENT
UID:1791588:Event:153726
DTSTAMP:20260421T104742Z
SUMMARY:Future of Imaging
DESCRIPTION:Who is Watson and what is ViSion?  If you can’t answer 
 those questions, join us for this short one hour webinar that will sta
 rt answering those questions and more. Technological advancements are 
 commonplace. Chances are high that you’ve got internet access 24 hou
 rs a day on your phone. You know that to stay marketable in today’s 
 technologic boom, you’ve got to keep up with the newest wave of tech
 nology. Join us for an exciting look at your future radiology departme
 nt.\nStart Time Based on Time Zone:\n\n7:15PM Eastern\n6:15PM Central\
 n5:15PM Mountain\n4:15PM Pacific\n3:15PM Alaska\n2:15PM Hawaii\n\n\nFo
 r more information visit https://community.radrounds.com/events/future
 -of-imaging
DTSTART:20140403T221500Z
DTEND:20140403T231500Z
CATEGORIES:live, webinar, ce, credit, "course:", radiology
LOCATION:Advanced Health Education Center
WEBSITE:https://store2.aheconline.com/index.php?route=product/product&
 path=59&product_id=1290
URL:https://store2.aheconline.com/index.php?route=product/product&path
 =59&product_id=1290
CONTACT:713-772-0157
ORGANIZER;CN="Larry Carney":https://community.radrounds.com/profile/La
 rryCarney
ATTACH;FMTTYPE="image/jpeg":
ATTENDEE;ROLE=REQ-PARTICIPANT;PARTSTAT=ACCEPTED;RSVP=TRUE;CN="Larry Ca
 rney":https://community.radrounds.com/profile/LarryCarney
END:VEVENT
END:VCALENDAR
