BEGIN:VCALENDAR
PRODID:NingEventWidget-v1
VERSION:2.0
METHOD:PUBLISH
BEGIN:VEVENT
UID:1791588:Event:114203
DTSTAMP:20260421T192419Z
SUMMARY:Fundamental Physics & Principles of Diagnostic Ultrasound for 
 Beginners
DESCRIPTION: Now in its 23nd year.  Earn up to 11 AMA PRA Category 1
  CME credits ™.\n\nFor clinicians, it’s the place to begin your ve
 nture into diagnostic medical ultrasound.  For administrators, this i
 s the ideal noncommercial course to independently frame your decision-
 making for capital equipment purchase.  \n \nWhether you are a comp
 lete beginner in healthcare or an experienced professional, this cours
 e will make you better.  Small class size ensures an individualized, 
 supportive setting where your every question is answered and your thin
 king stimulated.  Hands-on lab experience focuses on the systematic a
 pproach to imaging/Doppler of any organ system and does not comprise a
 n intense protocol-based approach to specific clinical applications. 
  \n\nInspect the complete objectives and our learning strategy at htt
 p://www.kmaultrasound.com/course_fundamentals.shtml.  Class size is s
 trictly limited; contact Amy Donaldson at 972/353-3200.   \n\nJoin u
 s in class or request an onsite presentation for your entire group:  
 http://kmaultrasound.com/tutorial_info.shtml.  \n\n\nFor more inform
 ation visit https://community.radrounds.com/events/fundamental-physics
 -principles-of-diagnostic-ultrasound-for-2
DTSTART:20120428T220000Z
DTEND:20120429T230000Z
CATEGORIES:ultrasound, physics, hands-on, training
LOCATION:The Hyatt House Hotel & Suites- Las Colinas
WEBSITE:http://www.kmaultrasound.com/kma_hotel_reservation.shtml
URL:http://www.kmaultrasound.com/kma_hotel_reservation.shtml
CONTACT:800/845-3484, 972/353-3200
ORGANIZER;CN="Keith A. Mauney":https://community.radrounds.com/profile
 /KeithAMauney
ATTACH;FMTTYPE="image/jpeg":http://storage.ning.com/topology/rest/1.0/
 file/get/1044738165?profile=original
ATTENDEE;ROLE=REQ-PARTICIPANT;PARTSTAT=ACCEPTED;RSVP=TRUE;CN="Keith A.
  Mauney":https://community.radrounds.com/profile/KeithAMauney
END:VEVENT
END:VCALENDAR
