BEGIN:VCALENDAR
PRODID:NingEventWidget-v1
VERSION:2.0
METHOD:PUBLISH
BEGIN:VEVENT
UID:1791588:Event:190614
DTSTAMP:20260421T142744Z
SUMMARY:Foundations for Great CT Scanning (Live Webinar)
DESCRIPTION:Course Topics\nPhysics Review \n\nBackprojection and Imag
 e Reconstruction\nHelical CT and Pitch\nBeam Hardening and Dual-Energy
  CT\n\nAnatomy and Pathology Review \n\nCross Sectional Abdominal Ana
 tomy and Pathology Review\nCross Sectional Chest Anatomy and Pathology
  Review\nCross Sectional Head Anatomy and Pathology Review\n\nCourse O
 bjectives:\nAt the conclusion of the course the participant should be 
 able to:\n\nDiscuss the types of filters in backprojection\nGive an ex
 ample of what a low-pitch techniques might be most useful for in helic
 al scanning.\nIdentify the appendix on a cross sectional abdomen view.
 \nIdentify structures present on a cross sectional view of the gallbla
 dder.\nIdentify the ventricles on a cross sectional brain study\nIdent
 ify the aorta on cross sectional chest study\n\n\nFor more information
  visit https://community.radrounds.com/events/foundations-for-great-ct
 -scanning-live-webinar-5
DTSTART:20190523T130000Z
DTEND:20190523T150000Z
CATEGORIES:live, webinar
LOCATION:Advanced Health Education Center
WEBSITE:https://store.aheconline.com/
URL:https://store.aheconline.com/
CONTACT:1 (800) 239-1361
ORGANIZER:AHEC
ATTACH;FMTTYPE="image/jpeg":
ATTENDEE;ROLE=REQ-PARTICIPANT;PARTSTAT=ACCEPTED;RSVP=TRUE;CN="Larry Ca
 rney":https://community.radrounds.com/profile/LarryCarney
END:VEVENT
END:VCALENDAR
