BEGIN:VCALENDAR
PRODID:NingEventWidget-v1
VERSION:2.0
METHOD:PUBLISH
BEGIN:VEVENT
UID:1791588:Event:165699
DTSTAMP:20260422T051621Z
SUMMARY:Forthcoming Events  The technology and uses of on-treatment im
 aging in radiotherapy
DESCRIPTION:The clinical use of image guided radiotherapy has increase
 d rapidly in the last few years. Portal imaging is being superseded by
  cone beam CT (CBCT) in a number of sites. However there are still on-
 going debates around imaging frequency, dose measurement and margin ca
 lculation.\nBy bringing together experts in the field, this one day ev
 ent will discuss these topical issues. It will describe how the imagin
 g modalities work, especially the newer CBCT systems, provide informat
 ion on the legislative framework governing imaging and justifying its 
 use, and show how the imaging data can be used to calculate the treatm
 ent margins required for radiotherapy.\nOn leaving this event, partici
 pants will be able to determine the imaging dose and know how to optim
 ise it and will have learnt how to use information from radiotherapy i
 nformation systems for margin calculation.\n\nFor more information vis
 it https://community.radrounds.com/events/forthcoming-events-the-techn
 ology-and-uses-of-on-treatment
DTSTART:20160318T040000Z
DTEND:20160319T035900Z
CATEGORIES:conference
LOCATION:IET Birmingham
WEBSITE:http://austincourt.theiet.org/about/location.cfm
URL:http://austincourt.theiet.org/about/location.cfm
CONTACT:020 3668 2230
ORGANIZER;CN="Rebecca Groves":https://community.radrounds.com/profile/
 RebeccaGroves
ATTACH;FMTTYPE="image/jpeg":
ATTENDEE;ROLE=REQ-PARTICIPANT;PARTSTAT=ACCEPTED;RSVP=TRUE;CN="Rebecca 
 Groves":https://community.radrounds.com/profile/RebeccaGroves
END:VEVENT
END:VCALENDAR
