BEGIN:VCALENDAR
PRODID:NingEventWidget-v1
VERSION:2.0
METHOD:PUBLISH
BEGIN:VEVENT
UID:1791588:Event:186817
DTSTAMP:20260419T184719Z
SUMMARY:Forensic Radiology: A Historical Perspective (Live Webinar)
DESCRIPTION:Course Topics:\nForensic Radiography\n\nBrief History of F
 orensic Imaging\nEvents Impacting Forensic Radiography\nNew and Innova
 tive Approaches Utilizing Radiography\nUnusual Applications in Forensi
 c Investigations\nTips for RTS Imaging in Trauma\nRadiography in Mass 
 Disasters\n\nCourse Objectives:\nAt the conclusion of this course, par
 ticipants should be able to:\n\nUnderstand the radiographers role in f
 orensic radiography\nName one of the more unusual applications of x-ra
 ys in forensic investigations\nDescribe methods to get involved in for
 ensic radiography \n\n\nFor more information visit https://community.
 radrounds.com/events/forensic-radiology-a-historical-perspective-live-
 webinar-4
DTSTART:20190209T180000Z
DTEND:20190209T200000Z
CATEGORIES:live, webinar
LOCATION:Advanced Health Education Center
WEBSITE:https://store.aheconline.com/
URL:https://store.aheconline.com/
CONTACT:1(800) 239-1361
ORGANIZER:AHEC
ATTACH;FMTTYPE="image/jpeg":
ATTENDEE;ROLE=REQ-PARTICIPANT;PARTSTAT=ACCEPTED;RSVP=TRUE;CN="Larry Ca
 rney":https://community.radrounds.com/profile/LarryCarney
END:VEVENT
END:VCALENDAR
