BEGIN:VCALENDAR
PRODID:NingEventWidget-v1
VERSION:2.0
METHOD:PUBLISH
BEGIN:VEVENT
UID:1791588:Event:183631
DTSTAMP:20260423T221314Z
SUMMARY:Forensic Radiology: A Historical Perspective (Live Webinar)
DESCRIPTION:Course Topics:\nForensic Radiography\n\nBrief History of F
 orensic Imaging\nEvents Impacting Forensic Radiography\nNew and Innova
 tive Approaches Utilizing Radiography\nUnusual Applications in Forensi
 c Investigations\nTips for RTS Imaging in Trauma\nRadiography in Mass 
 Disasters\n\n\nFor more information visit https://community.radrounds.
 com/events/forensic-radiology-a-historical-perspective-live-webinar-3
DTSTART:20180830T220000Z
DTEND:20180831T000000Z
CATEGORIES:live, webinar
LOCATION:Advanced Health Education Center
WEBSITE:https://store.aheconline.com/
URL:https://store.aheconline.com/
CONTACT:800-239-1361
ORGANIZER;CN="Larry Carney":https://community.radrounds.com/profile/La
 rryCarney
ATTACH;FMTTYPE="image/jpeg":
ATTENDEE;ROLE=REQ-PARTICIPANT;PARTSTAT=ACCEPTED;RSVP=TRUE;CN="Larry Ca
 rney":https://community.radrounds.com/profile/LarryCarney
END:VEVENT
END:VCALENDAR
