BEGIN:VCALENDAR
PRODID:NingEventWidget-v1
VERSION:2.0
METHOD:PUBLISH
BEGIN:VEVENT
UID:1791588:Event:172390
DTSTAMP:20260424T033929Z
SUMMARY:Forensic Imaging for Criminal and Catastrophic Events (Live Ev
 ent)
DESCRIPTION:Course Topics\n1)      Imaging of medical class actio
 n lawsuit cases.  ( IVC filters, Stryker  hip replacements, etc.)\n2
 )      Long term effects of cancer induction in victims of the Ch
 ernobyl and Hiroshima / Nagasaki atomic bombs. \n3)      Imaging
  Bone Metastasis:   Disease Process, Radiography, CT , MRI vs Tc99m,
   Bone scanning, Post-surgical imaging.\n4)      Forensic Radiol
 ogy evidence in Psychosis and Traumatic Brain Injury.\n5)      Cu
 rrent status of chronic traumatic encephalopathy in the NFL and other 
 contact sports.  \n\nFor more information visit https://community.rad
 rounds.com/events/forensic-imaging-for-criminal-and-catastrophic-event
 s-live-even-1
DTSTART:20170923T120000Z
DTEND:20170923T201500Z
CATEGORIES:live, event
LOCATION:Hendrick Hospital
WEBSITE:https://store.aheconline.com/index.php?route=product/product&p
 ath=59&product_id=2891
URL:https://store.aheconline.com/index.php?route=product/product&path=
 59&product_id=2891
CONTACT:800-239-1361
ORGANIZER;CN="Larry Carney":https://community.radrounds.com/profile/La
 rryCarney
ATTACH;FMTTYPE="image/jpeg":
ATTENDEE;ROLE=REQ-PARTICIPANT;PARTSTAT=ACCEPTED;RSVP=TRUE;CN="Larry Ca
 rney":https://community.radrounds.com/profile/LarryCarney
END:VEVENT
END:VCALENDAR
