BEGIN:VCALENDAR
PRODID:NingEventWidget-v1
VERSION:2.0
METHOD:PUBLISH
BEGIN:VEVENT
UID:1791588:Event:164817
DTSTAMP:20260420T112813Z
SUMMARY:Fetal Heart Screening & Beyond
DESCRIPTION:The Fetal Heart Screening & Beyond course is taught by lea
 ding experts and covers the 4 chamber view, outflow tracts, and arrhyt
 hmias in the fetal heart. This unique course incorporates comprehensiv
 e lectures, case presentations, and extensive hands-on scanning, featu
 ring a 3:1 ratio with live models.\n\nFor more information visit https
 ://community.radrounds.com/events/fetal-heart-screening-beyond
DTSTART:20160728T040000Z
DTEND:20160729T035900Z
CATEGORIES:ultrasound, cme, seminar
LOCATION:Gulfcoast Ultrasound Institute, Inc.
WEBSITE:https://www.gcus.com/courses/about.asp?course=943/Fetal-Heart-
 Screening-and-Beyond
URL:https://www.gcus.com/courses/about.asp?course=943/Fetal-Heart-Scre
 ening-and-Beyond
CONTACT:800-619-1900
ORGANIZER;CN="Casey Green":https://community.radrounds.com/profile/Jam
 esSalame
ATTACH;FMTTYPE="image/jpeg":
ATTENDEE;ROLE=REQ-PARTICIPANT;PARTSTAT=ACCEPTED;RSVP=TRUE;CN="Casey Gr
 een":https://community.radrounds.com/profile/JamesSalame
END:VEVENT
END:VCALENDAR
