BEGIN:VCALENDAR
PRODID:NingEventWidget-v1
VERSION:2.0
METHOD:PUBLISH
BEGIN:VEVENT
UID:1791588:Event:188246
DTSTAMP:20260423T043306Z
SUMMARY:Fetal and Women's Imaging 2019: Advanced OB-GYN Ultrasound
DESCRIPTION:We welcome back Program Directors Mary E. Norton and Roya 
 Sohaey for this annual three-day advanced OB-GYN course in Seattle.Â  
 For experienced physicians and sonographers, this curriculum covers sk
 ills and techniques to help you improve fetal brain and in-depth cardi
 ac scanning, as well as imaging of the musculoskeletal, genitourinary,
  gastrointestinal and other systems. Become proficient at imaging and 
 diagnosis during all three trimesters in order to scan both routine an
 d high-risk pregnancy scenarios, including fetal intervention. Using g
 ynecologic ultrasound in the diagnosis and treatment of adenomyosis an
 d adnexal masses, and sonography of gynecologic emergencies will also 
 be covered.\nÂ \nThis course is designed for physicians, nurse practit
 ioners, physician assistants, certified nurse midwives, nurses, sonogr
 aphers, and radiologic technologists who work in a clinical practice s
 etting using maternal-fetal ultrasound for diagnosis and screening.\nÂ
  \n18.25 AMA PRA Category 1 Creditsâ„¢\n18 Cognate Credits\nApproved b
 y the ASRT for Category A continuing education credit for Sonographers
  and Radiologic Technologists\n\nFor more information visit https://co
 mmunity.radrounds.com/events/fetal-and-women-s-imaging-2019-advanced-o
 b-gyn-ultrasound
DTSTART:20190906T040000Z
DTEND:20190909T035900Z
CATEGORIES:cme
LOCATION:Marriott Seattle Waterfront
WEBSITE:https://www.worldclasscme.com/conferences/fetal-and-womens-ima
 ging-advanced-ob-gyn-ultrasound4/
URL:https://www.worldclasscme.com/conferences/fetal-and-womens-imaging
 -advanced-ob-gyn-ultrasound4/
CONTACT:980-819-5095
ORGANIZER:World Class CME
ATTACH;FMTTYPE="image/jpeg":https://storage.ning.com/topology/rest/1.0
 /file/get/1190089894?profile=original
ATTENDEE;ROLE=REQ-PARTICIPANT;PARTSTAT=ACCEPTED;RSVP=TRUE;CN="JoAnn Co
 oke":https://community.radrounds.com/profile/JoAnnCooke
END:VEVENT
END:VCALENDAR
