BEGIN:VCALENDAR
PRODID:NingEventWidget-v1
VERSION:2.0
METHOD:PUBLISH
BEGIN:VEVENT
UID:1791588:Event:172133
DTSTAMP:20260423T235347Z
SUMMARY:Fetal and Women's Imaging 2017: Advanced OB-GYN Ultrasound
DESCRIPTION:Register online at:\nhttp://www.worldclasscme.com/conferen
 ces/fetal-and-womens-imaging-advanced-ob-gyn-ultrasound2/\nThis three-
 day conference covers advanced OB-GYN ultrasound for healthcare profes
 sionals who need detailed knowledge beyond routine fetal screening. Th
 is course teaches imaging during first, second, and third trimesters, 
 with an in-depth focus on screening each fetal body system.\n This co
 urse is designed for physicians and sonographers in the fields of gyne
 cologic and obstetric imaging, as well as residents in obstetrics and 
 gynecology, or radiology, and fellows in maternal-fetal medicine. This
  course may also be valuable to family physicians practicing obstetric
 s, advanced practice nurses​ and physician assistants working in g
 ynecology and obstetrics.\n\nPricing  Physician: $995.00  Sonographer
 : $795.00  Technologist: $795.00  Military: $895.00  Single Day: $645.
 00\n\n18.5 AMA PRA Category 1 Credits™ 19 Cognate Credits\nASRT App
 roved for Category A CE credit for Sonographers and Technologists\n\nF
 or more information visit https://community.radrounds.com/events/fetal
 -and-women-s-imaging-2017-advanced-ob-gyn-ultrasound
DTSTART:20170908T040000Z
DTEND:20170911T035900Z
CATEGORIES:fetal, "women's", imaging, ob-gyn, "ob/gyn", obstetrics, gy
 necology, ultrasound, sonography, radiology, conference, live, event
LOCATION:The Westin Seattle
WEBSITE:http://www.westinseattle.com/
URL:http://www.westinseattle.com/
CONTACT:888-627-8513
ORGANIZER:World Class CME
ATTACH;FMTTYPE="image/jpeg":http://storage.ning.com/topology/rest/1.0/
 file/get/1044768858?profile=original
ATTENDEE;ROLE=REQ-PARTICIPANT;PARTSTAT=ACCEPTED;RSVP=TRUE;CN="JoAnn Co
 oke":https://community.radrounds.com/profile/JoAnnCooke
END:VEVENT
END:VCALENDAR
