BEGIN:VCALENDAR
PRODID:NingEventWidget-v1
VERSION:2.0
METHOD:PUBLISH
BEGIN:VEVENT
UID:1791588:Event:160536
DTSTAMP:20260420T154015Z
SUMMARY:Fetal and Women's Imaging 2015:  Advanced OB-GYN Ultrasound
DESCRIPTION:Register and view full program details HERE\nWorld Class C
 ME is again proud to host the annual Fetal and Women’s Imaging confe
 rence in Seattle, Washington.  This three day conference covers advan
 ced OB-GYN ultrasound for Radiologists, OB-GYNs and Sonographers.  Be
 nefit from the newest information in the field of ultrasound and gathe
 r the shiniest pearls of wisdom from our expert faculty.  For those p
 rofessionals who need detailed knowledge beyond routine fetal screenin
 g, this course teaches imaging during first, second and third trimeste
 rs, with an in-depth focus on screening each fetal body system.  Many
  lessons are presented using a practical case-based teaching approach.
   Common and not so common gynecological imaging scenarios are also c
 overed.\nCourse Objectives\nUpon completion of this course, the partic
 ipant will be able to:\n\nDescribe the role and essential components o
 f a complete evaluation of the gastrointestinal tract, genitourinary s
 ystem and sex organs in the fetus\n\nList important factors for an ult
 rasound evaluation of multiple gestations, including which features to
  examine and report\n\nDevelop a strategy for screening cardiac sonogr
 ams and understand when to refer cases for advanced diagnosis and mana
 gement\n\nDistinguish between different types of fetal brain anomalies
  and understand different implications and prognoses for various disor
 ders\n\nImprove skills in diagnosis of early pregnancy success and fai
 lure with emphasis on avoiding harm to viable desired pregnancies\n\nD
 istinguish critical placental disorders using ultrasound and MR\n\nInc
 orporate state-of-the-art practices in prenatal genetic screening \n\
 nUnderstand role of imaging for the work up of infertility patients as
  well as breast symptoms in pregnant or lactating women\n\nImprove ski
 lls in performing and interpreting emergency second and third trimeste
 r ultrasound\n\nIncorporate state of the art imaging for accurate diag
 nosis and treatment of uterine fibroids\n\nParticipate in case-based l
 earning of interesting cases via daily “unknown case” presentation
 s with audience involvement\n\n\nWorld Class CME is accredited by the 
 Accreditation Council for Continuing Medical Education to provide cont
 inuing medical education for physicians.\nWorld Class CME designates t
 his live activity for a maximum of 19 AMA PRA Category 1 Credits™. P
 hysicians should claim only the credit commensurate with the extent of
  their participation in the activity.\nThe American College of Obstetr
 icians and Gynecologists has assigned up to 19 cognate credits to this
  program.\n\nFor more information visit https://community.radrounds.co
 m/events/fetal-and-women-s-imaging-2015-advanced-ob-gyn-ultrasound
DTSTART:20150911T040000Z
DTEND:20150914T035900Z
CATEGORIES:ob-gyn, ultrasound, obstetrics, gynecology, sonography, mat
 ernal-fetal, imaging, radiology, diagnostic, "ob/gyn"
LOCATION:The Westin Seattle
WEBSITE:http://www.worldclasscme.com/conferences/fetal-and-womens-imag
 ing1/
URL:http://www.worldclasscme.com/conferences/fetal-and-womens-imaging1
 /
CONTACT:980-819-5095
ORGANIZER:World Class CME (www.worldclasscme.com)
ATTACH;FMTTYPE="image/jpeg":http://storage.ning.com/topology/rest/1.0/
 file/get/1044763063?profile=original
ATTENDEE;ROLE=REQ-PARTICIPANT;PARTSTAT=ACCEPTED;RSVP=TRUE;CN="JoAnn Co
 oke":https://community.radrounds.com/profile/JoAnnCooke
END:VEVENT
END:VCALENDAR
