BEGIN:VCALENDAR
PRODID:NingEventWidget-v1
VERSION:2.0
METHOD:PUBLISH
BEGIN:VEVENT
UID:1791588:Event:182945
DTSTAMP:20260425T073358Z
SUMMARY:Exploring Spinal Trauma (Live Webinar)
DESCRIPTION:C-Spine \n\nAnatomy & Physiology of the C-spine\nCommon M
 ethods of C-Spine Injury\nTypes of Fractures\nEssential Image Views\nI
 mage Review\nTypes of Traumatic Fractures with Case Studies\n\nThoraci
 c and Lumbar Spine \n\nFunctions of the Spine\nPhysiological Anatomy 
 of the Thoracic and Lumbar Spine\nEtiology of the Spine\nEssential Ima
 ge Views\nTypes of Fractures and Common Methods of Thoracic and Lumbar
  Spine Injuries Case Studies\nDegenerative Diseases: Spondylosis, Scle
 rosis, Osteoporosis\nTraumatic Causes of Spinal Injuries\nSymptoms Sug
 gestive of Trauma\n\n\nFor more information visit https://community.ra
 drounds.com/events/exploring-spinal-trauma-live-webinar-4
DTSTART:20180730T220000Z
DTEND:20180731T010000Z
CATEGORIES:live, webinar
LOCATION:Advanced Health Education Center
WEBSITE:https://store.aheconline.com/
URL:https://store.aheconline.com/
CONTACT:7137720157
ORGANIZER;CN="Larry Carney":https://community.radrounds.com/profile/La
 rryCarney
ATTACH;FMTTYPE="image/jpeg":
ATTENDEE;ROLE=REQ-PARTICIPANT;PARTSTAT=ACCEPTED;RSVP=TRUE;CN="Larry Ca
 rney":https://community.radrounds.com/profile/LarryCarney
END:VEVENT
END:VCALENDAR
