BEGIN:VCALENDAR
PRODID:NingEventWidget-v1
VERSION:2.0
METHOD:PUBLISH
BEGIN:VEVENT
UID:1791588:Event:195627
DTSTAMP:20260422T013234Z
SUMMARY:Exploring Spinal Trauma (Live Webinar)
DESCRIPTION:Course Topics:\nC-Spine \n\nAnatomy & Physiology of the C
 -spine\nCommon Methods of C-Spine Injury\nTypes of Fractures\nEssentia
 l Image Views\nImage Review\nTypes of Traumatic Fractures with Case St
 udies\n\nThoracic and Lumbar Spine \n\nFunctions of the Spine\nPhysio
 logical Anatomy of the Thoracic and Lumbar Spine\nEtiology of the Spin
 e\nEssential Image Views\nTypes of Fractures and Common Methods of Tho
 racic and Lumbar Spine Injuries Case Studies\nDegenerative Diseases: S
 pondylosis, Sclerosis, Osteoporosis\nTraumatic Causes of Spinal Injuri
 es\nSymptoms Suggestive of Trauma\n\n\nFor more information visit http
 s://community.radrounds.com/events/exploring-spinal-trauma-live-webina
 r-15
DTSTART:20200107T140000Z
DTEND:20200107T170000Z
CATEGORIES:live, webinar
LOCATION:Advanced Health Education Center
WEBSITE:http://store.aheconline.com
URL:http://store.aheconline.com
CONTACT:1(800) 239-1361
ORGANIZER:AHEC
ATTACH;FMTTYPE="image/jpeg":
ATTENDEE;ROLE=REQ-PARTICIPANT;PARTSTAT=ACCEPTED;RSVP=TRUE;CN="Larry Ca
 rney":https://community.radrounds.com/profile/LarryCarney
END:VEVENT
END:VCALENDAR
