BEGIN:VCALENDAR
PRODID:NingEventWidget-v1
VERSION:2.0
METHOD:PUBLISH
BEGIN:VEVENT
UID:1791588:Event:160355
DTSTAMP:20260423T011100Z
SUMMARY:Expert Breast Ultrasound 2016:  Advanced Screening and Diagnos
 is
DESCRIPTION:“Expert Breast Ultrasound” is an accredited two-day co
 urse devoted to tracking the dynamic field of breast ultrasound.  Rec
 eive in-depth instruction that will maximize your ability to perform a
 nd interpret breast ultrasound images.  The meeting format will inclu
 de a combination of lectures and hands-on workshops featuring live mod
 el breast ultrasound scanning, ultrasound-guided breast biopsy, and ne
 w Automated Breast Ultrasound technology.  There’s a lot of new tec
 hnology popping up on the breast ultrasound landscape and you’ll get
  firsthand information about it here.  We’ve pulled together an inc
 redible faculty, including Thomas Stavros, MD, and are thrilled to hav
 e Michael Linver, MD as the program director for this course.  This c
 ourse will be helpful for Radiologists, Breast Surgeons and Sonographe
 rs.\n\nFor more information visit https://community.radrounds.com/even
 ts/expert-breast-ultrasound-2016-advanced-screening-and-diagnosis
DTSTART:20160130T050000Z
DTEND:20160201T045900Z
CATEGORIES:breast, ultrasound, mammography, imaging, sonography, sonog
 rapher, automated, ultrasound-guided, biopsy, radiology, "women's"
LOCATION:The Westin Riverwalk
WEBSITE:http://www.worldclasscme.com
URL:http://www.worldclasscme.com
CONTACT:(980) 819-5095
ORGANIZER:World Class CME (www.worldclasscme.com)
ATTACH;FMTTYPE="image/jpeg":http://storage.ning.com/topology/rest/1.0/
 file/get/1044763386?profile=original
ATTENDEE;ROLE=REQ-PARTICIPANT;PARTSTAT=ACCEPTED;RSVP=TRUE;CN="JoAnn Co
 oke":https://community.radrounds.com/profile/JoAnnCooke
END:VEVENT
END:VCALENDAR
