BEGIN:VCALENDAR
PRODID:NingEventWidget-v1
VERSION:2.0
METHOD:PUBLISH
BEGIN:VEVENT
UID:1791588:Event:186825
DTSTAMP:20260420T135706Z
SUMMARY:Expanding Your Imaging Expertise (Live Event)
DESCRIPTION:Course Topics\n\nThorax Pathology with Case Studies\nSkele
 tal Pathology: Child Abuse, Fatal Fractures and Hereditary\nContrast: 
 Pharmacology & Lab Values, Oh My!\n\n\nFor more information visit http
 s://community.radrounds.com/events/expanding-your-imaging-expertise-li
 ve-event
DTSTART:20190216T140000Z
DTEND:20190216T193000Z
CATEGORIES:live, event
LOCATION:Advanced Health Education Center
WEBSITE:https://store.aheconline.com/
URL:https://store.aheconline.com/
CONTACT:1(800) 239-1361
ORGANIZER:AHEC
ATTACH;FMTTYPE="image/jpeg":
ATTENDEE;ROLE=REQ-PARTICIPANT;PARTSTAT=ACCEPTED;RSVP=TRUE;CN="Larry Ca
 rney":https://community.radrounds.com/profile/LarryCarney
END:VEVENT
END:VCALENDAR
