BEGIN:VCALENDAR
PRODID:NingEventWidget-v1
VERSION:2.0
METHOD:PUBLISH
BEGIN:VEVENT
UID:1791588:Event:172182
DTSTAMP:20260421T092115Z
SUMMARY:Ethics and CT Dose Reduction (Live Webinar)
DESCRIPTION:Course Topics:\nDead or Alive: Ethics in Imaging\n\nLegal 
 Definitions\nInformed Consent\nRisks\nCase Scenarios\n\nCT Dose Reduct
 ion\n\nRisks\nParameters Affecting Dose Rates\nShielding Do’s and Do
 n’ ts \n\n\nFor more information visit https://community.radrounds.
 com/events/ethics-and-ct-dose-reduction-live-webinar-5
DTSTART:20170531T170000Z
DTEND:20170531T190000Z
CATEGORIES:live, webinar
LOCATION:Advanced Health Education Center
WEBSITE:https://store.aheconline.com/index.php?route=product/product&p
 ath=59_167&product_id=3146
URL:https://store.aheconline.com/index.php?route=product/product&path=
 59_167&product_id=3146
CONTACT:800-239-1361
ORGANIZER;CN="Larry Carney":https://community.radrounds.com/profile/La
 rryCarney
ATTACH;FMTTYPE="image/jpeg":
ATTENDEE;ROLE=REQ-PARTICIPANT;PARTSTAT=ACCEPTED;RSVP=TRUE;CN="Larry Ca
 rney":https://community.radrounds.com/profile/LarryCarney
END:VEVENT
END:VCALENDAR
