BEGIN:VCALENDAR
PRODID:NingEventWidget-v1
VERSION:2.0
METHOD:PUBLISH
BEGIN:VEVENT
UID:1791588:Event:172173
DTSTAMP:20260422T015514Z
SUMMARY:Ethics and CT Dose Reduction (Live Webinar)
DESCRIPTION:Course Topics:\nDead or Alive: Ethics in Imaging\n\nLegal 
 Definitions\nInformed Consent\nRisks\nCase Scenarios\n\nCT Dose Reduct
 ion\n\nRisks\nParameters Affecting Dose Rates\nShielding Do’s and Do
 n’ts \n\n\nFor more information visit https://community.radrounds.c
 om/events/ethics-and-ct-dose-reduction-live-webinar-3
DTSTART:20170517T150000Z
DTEND:20170517T170000Z
CATEGORIES:live, webinar
LOCATION:Advanced Health Education Center
WEBSITE:https://store.aheconline.com/index.php?route=product/product&p
 ath=59&product_id=3144
URL:https://store.aheconline.com/index.php?route=product/product&path=
 59&product_id=3144
CONTACT:800-239-1361
ORGANIZER;CN="Larry Carney":https://community.radrounds.com/profile/La
 rryCarney
ATTACH;FMTTYPE="image/jpeg":
ATTENDEE;ROLE=REQ-PARTICIPANT;PARTSTAT=ACCEPTED;RSVP=TRUE;CN="Larry Ca
 rney":https://community.radrounds.com/profile/LarryCarney
END:VEVENT
END:VCALENDAR
