BEGIN:VCALENDAR
PRODID:NingEventWidget-v1
VERSION:2.0
METHOD:PUBLISH
BEGIN:VEVENT
UID:1791588:Event:195832
DTSTAMP:20260422T062839Z
SUMMARY:Ethics and CT Dose Reduction (Live Webinar)
DESCRIPTION:Course Topics:\nDead or Alive: Ethics in Imaging\n\nLegal 
 Definitions\nInformed Consent\nRisks\nCase Scenarios\n\nCT Dose Reduct
 ion\n\nRisks\nParameters Affecting Dose Rates\nShielding Do’s and Do
 n’ ts \n\n\nFor more information visit https://community.radrounds.
 com/events/ethics-and-ct-dose-reduction-live-webinar-13
DTSTART:20200109T140000Z
DTEND:20200109T170000Z
CATEGORIES:live, webinar
LOCATION:Advanced Health Education Center
WEBSITE:http://store.aheconline.com
URL:http://store.aheconline.com
CONTACT:1(800) 239-1361
ORGANIZER:AHEC
ATTACH;FMTTYPE="image/jpeg":
ATTENDEE;ROLE=REQ-PARTICIPANT;PARTSTAT=ACCEPTED;RSVP=TRUE;CN="Larry Ca
 rney":https://community.radrounds.com/profile/LarryCarney
END:VEVENT
END:VCALENDAR
