BEGIN:VCALENDAR
PRODID:NingEventWidget-v1
VERSION:2.0
METHOD:PUBLISH
BEGIN:VEVENT
UID:1791588:Event:73136
DTSTAMP:20260425T234314Z
SUMMARY:Essentials of Emergency & Trauma Radiology
DESCRIPTION:2011-006 ER, Ottawa - 2011 Essentials of Emergency and Tra
 uma Radiology\n\nOverview\n\nThis 1 ½ day course is intended to provi
 de a comprehensive review of imaging techniques used to evaluate the a
 cutely ill and injured patient. In addition, there will be three case-
 based learning sessions conducted by internationally recognized facult
 y. The course will provide a broad overview of trends and advances in 
 Emergency/Trauma radiology as well as cover subspecialty topics in neu
 roradiology, musculoskeletal, chest and abdominal radiology\n\nCourse 
 Director(s)\nAdnan M. Sheikh, MD\n\nTarget Audience\nRadiologists, res
 idents/fellows and technologists\n\nParticipating Faculty\n\nThe Unive
 rsity of Ottawa Department of Radiology will be lecturing at this prog
 ram and, in addition, several guest faculty will be invited.\n\nFor mo
 re information visit https://community.radrounds.com/events/essentials
 -of-emergency
DTSTART:20111015T040000Z
DTEND:20111017T035900Z
CATEGORIES:course
LOCATION:Lord Elgin Hotel
WEBSITE:http://www.ottawaradcme.com/courses/course_details.asp?id=55#o
 verview
URL:http://www.ottawaradcme.com/courses/course_details.asp?id=55#overv
 iew
CONTACT:
ORGANIZER:University of Ottawa
ATTACH;FMTTYPE="image/jpeg":
ATTENDEE;ROLE=REQ-PARTICIPANT;PARTSTAT=ACCEPTED;RSVP=TRUE;CN="radRound
 s Radiology Events":https://community.radrounds.com/profile/radRoundsR
 adiologyEvents
END:VEVENT
END:VCALENDAR
