BEGIN:VCALENDAR
PRODID:NingEventWidget-v1
VERSION:2.0
METHOD:PUBLISH
BEGIN:VEVENT
UID:1791588:Event:192156
DTSTAMP:20260420T061452Z
SUMMARY:EQUIP Yourself for Mammography Accreditation (Live Webinar)
DESCRIPTION:Course Topics:\nEQUIP: Why Now?\nTrends in Mammography Acc
 rediation Programs \n\nThe Reasons Behind the Reviews\nThe Most Commo
 n Types of Deficiencies\nForming a Meaningful Corrective Action Plan\n
 Q & A Forum\n\nEQUIP: Regulatory Insights From the Texas Mammography P
 rogram\n\nCurrent Statistics for EQUIP Compliance\nIntent of EQUIP Reg
 ulations\nTypes of EQUIP Violations\nPearls and Pitfalls of EQUIP Comp
 liance\nQ & A Forum\n\nThe Radiologists Role in the EQUIP Process\n\nR
 adiologist's Perspective on Maintaining EQUIP\nA Look at Best Practice
 s from an Expert Radiologist\nCase Studies of a Compliant Process\nQ &
  A from our Expert Radiologist\n\nThe Technologists Role in the EQUIP 
 Process\n\nThe Technologist's Perspective on Maintaining EQUIP\nA Look
  at Best Practices from an Expert Technologist\nCase Studies of a Comp
 liant Process\n\n\nFor more information visit https://community.radrou
 nds.com/events/equip-yourself-for-mammography-accreditation-live-webin
 ar
DTSTART:20190810T130000Z
DTEND:20190810T190000Z
CATEGORIES:live, webinar
LOCATION:Advanced Health Education Center
WEBSITE:http://store.aheconline.com
URL:http://store.aheconline.com
CONTACT:1(800) 239-1361
ORGANIZER:AHEC
ATTACH;FMTTYPE="image/jpeg":
ATTENDEE;ROLE=REQ-PARTICIPANT;PARTSTAT=ACCEPTED;RSVP=TRUE;CN="Larry Ca
 rney":https://community.radrounds.com/profile/LarryCarney
END:VEVENT
END:VCALENDAR
